BEGIN:VCALENDAR
PRODID:-//github.com/rianjs/ical.net//NONSGML ical.net 4.0//EN
VERSION:2.0
BEGIN:VEVENT
DESCRIPTION:
DTEND:20200603T130000Z
DTSTAMP:20260419T163951Z
DTSTART:20200603T120000Z
LOCATION:None United Kingdom
SEQUENCE:0
SUMMARY:Lunchtime Webinar | Are unconfined hydrogen vapor cloud explosions
  credible? Darren Malik & Kelly Thomas\, BakerRisk
TRANSP:TRANSPARENT
UID:7a345e8b-11e9-4561-bbf0-5fe7aa79bd95
END:VEVENT
BEGIN:VTIMEZONE
END:VTIMEZONE
END:VCALENDAR
