BEGIN:VCALENDAR
PRODID:-//github.com/rianjs/ical.net//NONSGML ical.net 4.0//EN
VERSION:2.0
BEGIN:VEVENT
DESCRIPTION:
DTEND:20200617T130000Z
DTSTAMP:20260419T163507Z
DTSTART:20200617T120000Z
LOCATION:None United Kingdom
SEQUENCE:0
SUMMARY:Lunchtime Webinar | Risk assessments and standards leading to safe
 ty distances for hydrogen refuelling stations - Asmund Huser\, DNV GL
TRANSP:TRANSPARENT
UID:1818e323-4fd5-4fac-89e8-e31be4b35ca5
END:VEVENT
BEGIN:VTIMEZONE
END:VTIMEZONE
END:VCALENDAR
