BEGIN:VCALENDAR
PRODID:-//github.com/rianjs/ical.net//NONSGML ical.net 4.0//EN
VERSION:2.0
BEGIN:VEVENT
DESCRIPTION:
DTEND:20260507T220000Z
DTSTAMP:20260423T094611Z
DTSTART:20260504T140000Z
LOCATION:NRG Park 3 North Fwy Spring None TX 77389 United States of America
SEQUENCE:0
SUMMARY:Offshore Technology Conference (OTC) 2026
TRANSP:TRANSPARENT
UID:0b57beea-ba26-4f51-a3da-e6404e2e749a
END:VEVENT
BEGIN:VTIMEZONE
END:VTIMEZONE
END:VCALENDAR
