BEGIN:VCALENDAR
PRODID:-//github.com/rianjs/ical.net//NONSGML ical.net 4.0//EN
VERSION:2.0
BEGIN:VEVENT
DESCRIPTION:
DTEND:20260910T150000Z
DTSTAMP:20260425T174448Z
DTSTART:20260909T081500Z
LOCATION:Broadway House Tothill Street London Inner London SW1H 9NQ United
  Kingdom
SEQUENCE:0
SUMMARY:Technical Meeting | 2-day Event on 9 & 10 September
TRANSP:TRANSPARENT
UID:8e100c8d-fff3-43cf-baf9-8049b682303d
END:VEVENT
BEGIN:VTIMEZONE
END:VTIMEZONE
END:VCALENDAR
