BEGIN:VCALENDAR
PRODID:-//github.com/rianjs/ical.net//NONSGML ical.net 4.0//EN
VERSION:2.0
BEGIN:VEVENT
DESCRIPTION:
DTEND:20211007T151000Z
DTSTAMP:20260421T134324Z
DTSTART:20211007T083000Z
LOCATION:None United Kingdom
SEQUENCE:0
SUMMARY:Webcast | Renewable energies: What do we understand about hydrogen
  fire & explosion hazards?
TRANSP:TRANSPARENT
UID:efdb2279-a13a-4471-9f7d-6c61688fb97c
END:VEVENT
BEGIN:VTIMEZONE
END:VTIMEZONE
END:VCALENDAR
